BEGIN:VCALENDAR
VERSION:2.0
PRODID:-//Plone.org//NONSGML plone.app.event//EN
X-WR-TIMEZONE:US/Eastern
BEGIN:VEVENT
SUMMARY:Author Talks Marjan Kamali
DTSTART;TZID=US/Eastern:20260507T190000
DTEND;TZID=US/Eastern:20260507T200000
DTSTAMP:20260421T002146Z
UID:8e54b0af6bf647278a3848251b948002@saas_stack_varnish:6080
CONTACT:https://libraryc.org/lutherlibrary/155491
CREATED:20260420T152357Z
LAST-MODIFIED:20260420T152502Z
LOCATION:Virtual
URL:https://www.lutherlibrary.michlibrary.org/news-events/events/author-ta
 lks-marjan-kamali
END:VEVENT
BEGIN:VTIMEZONE
TZID:US/Eastern
X-LIC-LOCATION:US/Eastern
BEGIN:DAYLIGHT
DTSTART:20260308T030000
TZNAME:EDT
TZOFFSETFROM:-0500
TZOFFSETTO:-0400
END:DAYLIGHT
END:VTIMEZONE
END:VCALENDAR
