BEGIN:VCALENDAR
VERSION:2.0
PRODID:-//Plone.org//NONSGML plone.app.event//EN
X-WR-TIMEZONE:US/Eastern
BEGIN:VEVENT
SUMMARY:Author Talks Dr. Vivienne Ming
DTSTART;TZID=US/Eastern:20260512T140000
DTEND;TZID=US/Eastern:20260512T150000
DTSTAMP:20260421T002138Z
UID:1bbbff150bfc4223af4c2d572321e3e9@saas_stack_varnish:6080
CONTACT:https://libraryc.org/lutherlibrary/156126
CREATED:20260420T153116Z
LAST-MODIFIED:20260420T153349Z
LOCATION:Virtual
URL:https://www.lutherlibrary.michlibrary.org/news-events/events/author-ta
 lks-dr-vivienne-ming
END:VEVENT
BEGIN:VTIMEZONE
TZID:US/Eastern
X-LIC-LOCATION:US/Eastern
BEGIN:DAYLIGHT
DTSTART:20260308T030000
TZNAME:EDT
TZOFFSETFROM:-0500
TZOFFSETTO:-0400
END:DAYLIGHT
END:VTIMEZONE
END:VCALENDAR
