BEGIN:VCALENDAR
VERSION:2.0
PRODID:-//Plone.org//NONSGML plone.app.event//EN
X-WR-TIMEZONE:US/Eastern
BEGIN:VEVENT
SUMMARY:Author Talks Nir Eyal
DTSTART;TZID=US/Eastern:20260420T110000
DTEND;TZID=US/Eastern:20260420T120000
DTSTAMP:20260421T002120Z
UID:3ced53f52fd14016a1382338c996d35f@saas_stack_varnish:6080
CONTACT:https://libraryc.org/lutherlibrary/157396
CREATED:20260420T153521Z
LAST-MODIFIED:20260420T153526Z
LOCATION:Virtual
URL:https://www.lutherlibrary.michlibrary.org/news-events/events/author-ta
 lks-nir-eyal
END:VEVENT
BEGIN:VTIMEZONE
TZID:US/Eastern
X-LIC-LOCATION:US/Eastern
BEGIN:DAYLIGHT
DTSTART:20260308T030000
TZNAME:EDT
TZOFFSETFROM:-0500
TZOFFSETTO:-0400
END:DAYLIGHT
END:VTIMEZONE
END:VCALENDAR
